{ "currentVersion": 10.8, "cimVersion": "2.5.0", "serviceDescription": "
updated: November 2, 2023<\/span><\/p> Base map for use in web mapping application.<\/span><\/p><\/div><\/div><\/div>",
"mapName": "ACRD_PropertyBase",
"description": " updated: September 22, 2025<\/SPAN><\/P> Base map for use in web mapping application.<\/SPAN><\/P><\/DIV><\/DIV><\/DIV>",
"copyrightText": "ACRD",
"supportsDynamicLayers": true,
"layers": [
{
"id": 3,
"name": "Municipal (label only) 1M-250k)",
"parentLayerId": -1,
"defaultVisibility": true,
"subLayerIds": null,
"minScale": 1000000,
"maxScale": 250001,
"type": "Feature Layer",
"geometryType": "esriGeometryPolygon",
"supportsDynamicLegends": true
},
{
"id": 2,
"name": "E and N Railway Land Grant Boundary",
"parentLayerId": -1,
"defaultVisibility": true,
"subLayerIds": null,
"minScale": 64001,
"maxScale": 0,
"type": "Feature Layer",
"geometryType": "esriGeometryPolyline",
"supportsDynamicLegends": true
},
{
"id": 1,
"name": "ACRD Boundary(labelled)",
"parentLayerId": -1,
"defaultVisibility": true,
"subLayerIds": null,
"minScale": 0,
"maxScale": 249999,
"type": "Feature Layer",
"geometryType": "esriGeometryPolygon",
"supportsDynamicLegends": true
},
{
"id": 36,
"name": "Airport Boundary",
"parentLayerId": -1,
"defaultVisibility": true,
"subLayerIds": null,
"minScale": 125000,
"maxScale": 0,
"type": "Feature Layer",
"geometryType": "esriGeometryPolygon",
"supportsDynamicLegends": true
},
{
"id": 39,
"name": "Transfer Stations and Landfills",
"parentLayerId": -1,
"defaultVisibility": true,
"subLayerIds": null,
"minScale": 125000,
"maxScale": 0,
"type": "Feature Layer",
"geometryType": "esriGeometryPolygon",
"supportsDynamicLegends": true
},
{
"id": 35,
"name": "Railway line",
"parentLayerId": -1,
"defaultVisibility": true,
"subLayerIds": null,
"minScale": 500000,
"maxScale": 0,
"type": "Feature Layer",
"geometryType": "esriGeometryPolyline",
"supportsDynamicLegends": true
},
{
"id": 30,
"name": "Local Minor Road(32k-0)",
"parentLayerId": -1,
"defaultVisibility": true,
"subLayerIds": null,
"minScale": 32000,
"maxScale": 0,
"type": "Feature Layer",
"geometryType": "esriGeometryPolyline",
"supportsDynamicLegends": true
},
{
"id": 31,
"name": "Road(125k-0)",
"parentLayerId": -1,
"defaultVisibility": true,
"subLayerIds": null,
"minScale": 125000,
"maxScale": 0,
"type": "Feature Layer",
"geometryType": "esriGeometryPolyline",
"supportsDynamicLegends": true
},
{
"id": 37,
"name": "TransportLine_VI_MajorRoads (125k- 0)",
"parentLayerId": -1,
"defaultVisibility": true,
"subLayerIds": null,
"minScale": 125000,
"maxScale": 0,
"type": "Feature Layer",
"geometryType": "esriGeometryPolyline",
"supportsDynamicLegends": true
},
{
"id": 4,
"name": "TransportLine_VI_MajorRoads (1M-125k)",
"parentLayerId": -1,
"defaultVisibility": true,
"subLayerIds": null,
"minScale": 1000000,
"maxScale": 125001,
"type": "Feature Layer",
"geometryType": "esriGeometryPolyline",
"supportsDynamicLegends": true
},
{
"id": 38,
"name": "Roads - Bamfield, Central, Carmana and Flora FSR",
"parentLayerId": -1,
"defaultVisibility": true,
"subLayerIds": null,
"minScale": 1000000,
"maxScale": 0,
"type": "Feature Layer",
"geometryType": "esriGeometryPolyline",
"supportsDynamicLegends": true
},
{
"id": 40,
"name": "Airfield",
"parentLayerId": -1,
"defaultVisibility": true,
"subLayerIds": null,
"minScale": 0,
"maxScale": 0,
"type": "Feature Layer",
"geometryType": "esriGeometryPolygon",
"supportsDynamicLegends": true
},
{
"id": 5,
"name": "Jurisdictional Boundaries (500k-0k)",
"parentLayerId": -1,
"defaultVisibility": true,
"subLayerIds": null,
"minScale": 500000,
"maxScale": 0,
"type": "Feature Layer",
"geometryType": "esriGeometryPolygon",
"supportsDynamicLegends": true
},
{
"id": 16,
"name": "Parcel (64k-0k)",
"parentLayerId": -1,
"defaultVisibility": true,
"subLayerIds": null,
"minScale": 64001,
"maxScale": 0,
"type": "Feature Layer",
"geometryType": "esriGeometryPolygon",
"supportsDynamicLegends": true
},
{
"id": 0,
"name": "CLSR parcels",
"parentLayerId": -1,
"defaultVisibility": true,
"subLayerIds": null,
"minScale": 64001,
"maxScale": 0,
"type": "Feature Layer",
"geometryType": "esriGeometryPolygon",
"supportsDynamicLegends": true
},
{
"id": 7,
"name": "Hydrology (0K to32K)",
"parentLayerId": -1,
"defaultVisibility": true,
"subLayerIds": [
8,
9,
10,
11
],
"minScale": 32001,
"maxScale": 0,
"type": "Group Layer",
"supportsDynamicLegends": false
},
{
"id": 8,
"name": "FWA_Streams (labels only)",
"parentLayerId": 7,
"defaultVisibility": true,
"subLayerIds": null,
"minScale": 64001,
"maxScale": 0,
"type": "Feature Layer",
"geometryType": "esriGeometryPolyline",
"supportsDynamicLegends": true
},
{
"id": 9,
"name": "Streams (queried)",
"parentLayerId": 7,
"defaultVisibility": true,
"subLayerIds": null,
"minScale": 32001,
"maxScale": 0,
"type": "Feature Layer",
"geometryType": "esriGeometryPolyline",
"supportsDynamicLegends": true
},
{
"id": 10,
"name": "Waterbodies (with labels)",
"parentLayerId": 7,
"defaultVisibility": true,
"subLayerIds": null,
"minScale": 32001,
"maxScale": 0,
"type": "Feature Layer",
"geometryType": "esriGeometryPolygon",
"supportsDynamicLegends": true
},
{
"id": 11,
"name": "FWA_Bays_and_Channels_poly (labels)",
"parentLayerId": 7,
"defaultVisibility": true,
"subLayerIds": null,
"minScale": 32001,
"maxScale": 0,
"type": "Feature Layer",
"geometryType": "esriGeometryPolygon",
"supportsDynamicLegends": true
},
{
"id": 12,
"name": "Hydrology (32K to 64K)",
"parentLayerId": -1,
"defaultVisibility": true,
"subLayerIds": [
13,
14,
15
],
"minScale": 64001,
"maxScale": 32000,
"type": "Group Layer",
"supportsDynamicLegends": false
},
{
"id": 13,
"name": "FWA_Waterbodies (queried and labels)",
"parentLayerId": 12,
"defaultVisibility": true,
"subLayerIds": null,
"minScale": 64001,
"maxScale": 32000,
"type": "Feature Layer",
"geometryType": "esriGeometryPolygon",
"supportsDynamicLegends": true
},
{
"id": 14,
"name": "FWA_Streams (queried and labels)",
"parentLayerId": 12,
"defaultVisibility": true,
"subLayerIds": null,
"minScale": 64001,
"maxScale": 32000,
"type": "Feature Layer",
"geometryType": "esriGeometryPolyline",
"supportsDynamicLegends": true
},
{
"id": 15,
"name": "FWA_Bays_and_Channels_poly (labels)",
"parentLayerId": 12,
"defaultVisibility": true,
"subLayerIds": null,
"minScale": 64001,
"maxScale": 32000,
"type": "Feature Layer",
"geometryType": "esriGeometryPolygon",
"supportsDynamicLegends": true
},
{
"id": 19,
"name": "Hydrology (64K to 1M)",
"parentLayerId": -1,
"defaultVisibility": true,
"subLayerIds": [
20,
21,
22
],
"minScale": 1000000,
"maxScale": 64000,
"type": "Group Layer",
"supportsDynamicLegends": false
},
{
"id": 20,
"name": "FWA_Waterbodies (queried and labels)",
"parentLayerId": 19,
"defaultVisibility": true,
"subLayerIds": null,
"minScale": 500000,
"maxScale": 64000,
"type": "Feature Layer",
"geometryType": "esriGeometryPolygon",
"supportsDynamicLegends": true
},
{
"id": 21,
"name": "FWA_Streams (queried and labels)",
"parentLayerId": 19,
"defaultVisibility": true,
"subLayerIds": null,
"minScale": 500000,
"maxScale": 64000,
"type": "Feature Layer",
"geometryType": "esriGeometryPolyline",
"supportsDynamicLegends": true
},
{
"id": 22,
"name": "FWA_Bays_and_Channels_poly (labels)",
"parentLayerId": 19,
"defaultVisibility": true,
"subLayerIds": null,
"minScale": 500000,
"maxScale": 64000,
"type": "Feature Layer",
"geometryType": "esriGeometryPolygon",
"supportsDynamicLegends": true
},
{
"id": 18,
"name": "Federal Reserve Community (1M-0k)",
"parentLayerId": -1,
"defaultVisibility": true,
"subLayerIds": null,
"minScale": 1000000,
"maxScale": 0,
"type": "Feature Layer",
"geometryType": "esriGeometryPolygon",
"supportsDynamicLegends": true
},
{
"id": 23,
"name": "Surrounding RD Boundaries (250k+)",
"parentLayerId": -1,
"defaultVisibility": true,
"subLayerIds": null,
"minScale": 1000000,
"maxScale": 250000,
"type": "Feature Layer",
"geometryType": "esriGeometryPolygon",
"supportsDynamicLegends": true
},
{
"id": 25,
"name": "Parks (1M-0)",
"parentLayerId": -1,
"defaultVisibility": true,
"subLayerIds": null,
"minScale": 1000000,
"maxScale": 0,
"type": "Feature Layer",
"geometryType": "esriGeometryPolygon",
"supportsDynamicLegends": true
},
{
"id": 32,
"name": "Land",
"parentLayerId": -1,
"defaultVisibility": true,
"subLayerIds": null,
"minScale": 1000000,
"maxScale": 0,
"type": "Feature Layer",
"geometryType": "esriGeometryPolygon",
"supportsDynamicLegends": true
},
{
"id": 27,
"name": "Ocean",
"parentLayerId": -1,
"defaultVisibility": true,
"subLayerIds": null,
"minScale": 1000000,
"maxScale": 0,
"type": "Feature Layer",
"geometryType": "esriGeometryPolygon",
"supportsDynamicLegends": true
},
{
"id": 29,
"name": "Terrain (500k-64k)",
"parentLayerId": -1,
"defaultVisibility": true,
"subLayerIds": null,
"minScale": 750000,
"maxScale": 64001,
"type": "Raster Layer",
"supportsDynamicLegends": true
}
],
"tables": [],
"spatialReference": {
"wkid": 26910,
"latestWkid": 26910,
"xyTolerance": 0.001,
"zTolerance": 0.001,
"mTolerance": 0.001,
"falseX": -5120900,
"falseY": -9998100,
"xyUnits": 10000,
"falseZ": -100000,
"zUnits": 10000,
"falseM": -100000,
"mUnits": 10000
},
"singleFusedMapCache": true,
"tileInfo": {
"rows": 256,
"cols": 256,
"dpi": 96,
"format": "PNG",
"compressionQuality": 0,
"origin": {
"x": 224037.57,
"y": 5513857.41
},
"spatialReference": {
"wkid": 26910,
"latestWkid": 26910,
"xyTolerance": 0.001,
"zTolerance": 0.001,
"mTolerance": 0.001,
"falseX": -5120900,
"falseY": -9998100,
"xyUnits": 10000,
"falseZ": -100000,
"zUnits": 10000,
"falseM": -100000,
"mUnits": 10000
},
"lods": [
{
"level": 0,
"resolution": 264.5838625010584,
"scale": 1000000
},
{
"level": 1,
"resolution": 132.2919312505292,
"scale": 500000
},
{
"level": 2,
"resolution": 66.1459656252646,
"scale": 250000
},
{
"level": 3,
"resolution": 31.750063500127002,
"scale": 120000
},
{
"level": 4,
"resolution": 16.933367200067735,
"scale": 64000
},
{
"level": 5,
"resolution": 8.466683600033868,
"scale": 32000
},
{
"level": 6,
"resolution": 4.233341800016934,
"scale": 16000
},
{
"level": 7,
"resolution": 2.116670900008467,
"scale": 8000
},
{
"level": 8,
"resolution": 1.0583354500042335,
"scale": 4000
},
{
"level": 9,
"resolution": 0.5291677250021167,
"scale": 2000
},
{
"level": 10,
"resolution": 0.26458386250105836,
"scale": 1000
}
]
},
"initialExtent": {
"xmin": 259540.94440697887,
"ymin": 5373239.056706674,
"xmax": 361394.4336654672,
"ymax": 5511106.162883662,
"spatialReference": {
"wkid": 26910,
"latestWkid": 26910,
"xyTolerance": 0.001,
"zTolerance": 0.001,
"mTolerance": 0.001,
"falseX": -5120900,
"falseY": -9998100,
"xyUnits": 10000,
"falseZ": -100000,
"zUnits": 10000,
"falseM": -100000,
"mUnits": 10000
}
},
"fullExtent": {
"xmin": 227630.4719151326,
"ymin": 5370612.952921752,
"xmax": 395435.4004951095,
"ymax": 5511504.240782622,
"spatialReference": {
"wkid": 26910,
"latestWkid": 26910,
"xyTolerance": 0.001,
"zTolerance": 0.001,
"mTolerance": 0.001,
"falseX": -5120900,
"falseY": -9998100,
"xyUnits": 10000,
"falseZ": -100000,
"zUnits": 10000,
"falseM": -100000,
"mUnits": 10000
}
},
"minScale": 1000000,
"maxScale": 1000,
"minLOD": 0,
"maxLOD": 10,
"units": "esriMeters",
"supportedImageFormatTypes": "PNG32,PNG24,PNG,JPG,DIB,TIFF,EMF,PS,PDF,GIF,SVG,SVGZ,BMP",
"documentInfo": {
"Title": "ACRD Property Base",
"Author": "",
"Comments": " updated: September 22, 2025<\/SPAN><\/P> Base map for use in web mapping application.<\/SPAN><\/P><\/DIV><\/DIV><\/DIV>",
"Subject": "Base map for use in web mapping application.",
"Category": "",
"AntialiasingMode": "Fast",
"TextAntialiasingMode": "Force",
"Keywords": "ACRD,iMap"
},
"capabilities": "Map,Query,Data",
"supportedQueryFormats": "JSON, geoJSON, PBF",
"exportTilesAllowed": false,
"referenceScale": 0.0,
"datumTransformations": [
{
"geoTransforms": [
{
"wkid": 108190,
"latestWkid": 108190,
"transformForward": true,
"name": "WGS_1984_(ITRF00)_To_NAD_1983"
}
]
},
{
"geoTransforms": [
{
"wkid": 108190,
"latestWkid": 108190,
"transformForward": false,
"name": "WGS_1984_(ITRF00)_To_NAD_1983"
}
]
}
],
"supportsDatumTransformation": true,
"archivingInfo": {"supportsHistoricMoment": false},
"supportsClipping": true,
"supportsSpatialFilter": true,
"supportsQueryDataElements": true,
"maxRecordCount": 1000,
"maxImageHeight": 4096,
"maxImageWidth": 4096,
"supportedExtensions": "KmlServer"
}